BEGIN:VCALENDAR
VERSION:2.0
PRODID:-//ChamberMaster//Event Calendar 2.0//EN
METHOD:PUBLISH
X-PUBLISHED-TTL:P1H
REFRESH-INTERVAL:P1H
CALSCALE:GREGORIAN
BEGIN:VTIMEZONE
TZID:America/Los_Angeles
BEGIN:DAYLIGHT
RRULE:FREQ=YEARLY;BYMONTH=3;BYDAY=2SU
DTSTART:20070101T000000
TZOFFSETFROM:-0800
TZOFFSETTO:-0700
TZNAME:Pacific Daylight Time
END:DAYLIGHT
BEGIN:STANDARD
RRULE:FREQ=YEARLY;BYMONTH=11;BYDAY=1SU
DTSTART:20070101T000000
TZOFFSETFROM:-0700
TZOFFSETTO:-0800
TZNAME:Pacific Standard Time
END:STANDARD
END:VTIMEZONE
BEGIN:VEVENT
DTSTART;TZID=America/Los_Angeles:20260417T080000
DTEND;TZID=America/Los_Angeles:20260506T170000
X-MICROSOFT-CDO-ALLDAYEVENT:FALSE
SUMMARY:Cocoon House Butterfly Celebration
DESCRIPTION:Our annual Butterfly Celebration is a special evening to honor the successes of young people who have overcome significant challenges. You’ll have an opportunity to invest in the supportive services that help youth and young adults experiencing homelessness to thrive. Enjoy a delicious dinner\, have fun bidding on a selection of auction items\, and be inspired by the stories of hope and resilience from our incredible 2026 Butterfly Youth Award recipients! Plus this year’s program will also feature a powerful story from an alum who received services from Cocoon House over 20 years ago. Come hear how Cocoon House shaped their path and continues to make an impact! \n\nEvent details: Thursday\, May 7\, 2026 6–8pm Discovery Hall at Premera Blue Cross 6911 220th Street SW Mountlake Terrace\, WA Link to register by April 24th: https://cocoonhouse.ejoinme.org/butterfly2026
X-ALT-DESC;FMTTYPE=text/html:Our annual Butterfly Celebration is a special evening to honor the successes of young people who have overcome significant challenges. You’ll have an opportunity to invest in the supportive services that help youth and young adults experiencing homelessness to thrive. Enjoy a delicious dinner\, have fun bidding on a selection of auction items\, and be inspired by the stories of hope and resilience from our incredible 2026 Butterfly Youth Award recipients! Plus this year’s program will also feature a powerful story from an alum who received services from Cocoon House over 20 years ago. Come hear how Cocoon House shaped their path and continues to make an impact! \n\nEvent details: Thursday\, May 7\, 2026 6–8pm Discovery Hall at Premera Blue Cross 6911 220th Street SW Mountlake Terrace\, WA Link to register by April 24th: https://cocoonhouse.ejoinme.org/butterfly2026
LOCATION:6911 220th St SW Mountlake Terrace WA 98043
UID:e.3169.1446631
SEQUENCE:3
DTSTAMP:20260420T210254Z
URL:https://members.thegsba.org/eventcalendar/Details/cocoon-house-butterfly-celebration-1713405?sourceTypeId=Hub
END:VEVENT
END:VCALENDAR
