BEGIN:VCALENDAR
VERSION:2.0
PRODID:-//ChamberMaster//Event Calendar 2.0//EN
METHOD:PUBLISH
X-PUBLISHED-TTL:P1H
REFRESH-INTERVAL:P1H
CALSCALE:GREGORIAN
BEGIN:VTIMEZONE
TZID:America/Los_Angeles
BEGIN:DAYLIGHT
RRULE:FREQ=YEARLY;BYMONTH=3;BYDAY=2SU
DTSTART:20070101T000000
TZOFFSETFROM:-0800
TZOFFSETTO:-0700
TZNAME:Pacific Daylight Time
END:DAYLIGHT
BEGIN:STANDARD
RRULE:FREQ=YEARLY;BYMONTH=11;BYDAY=1SU
DTSTART:20070101T000000
TZOFFSETFROM:-0700
TZOFFSETTO:-0800
TZNAME:Pacific Standard Time
END:STANDARD
END:VTIMEZONE
BEGIN:VEVENT
DTSTART;TZID=America/Los_Angeles:20260417T080000
DTEND;TZID=America/Los_Angeles:20260424T235900
X-MICROSOFT-CDO-ALLDAYEVENT:FALSE
SUMMARY:Cocoon House's Butterfly Celebration
DESCRIPTION:Please join us for Cocoon House's annual Butterfly Celebration\, a special evening to honor the successes of young people who have overcome significant challenges\, and to invest in the supportive services that help youth and young adults experiencing homelessness to thrive. \nThursday\, May 7\, 20266-8pmDiscovery Hall at Premera Blue Cross6911 220th St SWMountake Terrace\, WA   98043\nDoors will open at 5:30pm for check-in and a special silent auction featuring a collection of meaningful items to support Cocoon House programs. The event program   including the 2026 Butterfly Youth Awards and a Raise the Paddle special appeal   will begin at 6:30pm. Dinner and drinks (alcoholic and non-alcoholic selections) will be provided. \nTo register\, visit: https://cocoonhouse.ejoinme.org/butterfly2026Registration closes April 24th! $100/person or $950/table of 10 \nThank you to Premera Blue Cross for generously hosting Cocoon House for this very special event!
X-ALT-DESC;FMTTYPE=text/html:<!DOCTYPE html><html><head><title></title></head><body aria-disabled="false"><p>Please join us for Cocoon House&#39\;s annual Butterfly Celebration\, a special evening to honor the successes of young people who have overcome significant challenges\, and to invest in the supportive services that help youth and young adults experiencing homelessness to thrive.&nbsp\;</p><p><br></p><p>Thursday\, May 7\, 2026</p><p>6-8pm</p><p>Discovery Hall at Premera Blue Cross</p><p>6911 220th St SW</p><p>Mountake Terrace\, WA &nbsp\; 98043</p><p style="box-sizing: border-box\; margin: 0px 0px 10px\; padding: 0px\; border: 0px\; font-style: normal\; font-variant-ligatures: normal\; font-variant-caps: normal\; font-variant-numeric: inherit\; font-variant-east-asian: inherit\; font-variant-alternates: inherit\; font-variant-position: inherit\; font-variant-emoji: inherit\; font-weight: 400\; font-stretch: inherit\; font-size: 14px\; line-height: inherit\; font-family: Arial\, Verdana\, Helvetica\, sans-serif\; font-optical-sizing: inherit\; font-size-adjust: inherit\; font-kerning: inherit\; font-feature-settings: inherit\; font-variation-settings: inherit\; font-language-override: inherit\; vertical-align: baseline\; color: rgb(0\, 0\, 0)\; letter-spacing: normal\; orphans: 2\; text-align: center\; text-indent: 0px\; text-transform: none\; widows: 2\; word-spacing: 0px\; -webkit-text-stroke-width: 0px\; white-space: normal\; text-decoration-thickness: initial\; text-decoration-style: initial\; text-decoration-color: initial\; background: white\;"><br></p><p>Doors will open at 5:30pm for check-in and a special silent auction featuring a collection of meaningful items to support Cocoon House programs. The event program &ndash\; including the 2026 Butterfly Youth Awards and a Raise the Paddle special appeal &ndash\; will begin at 6:30pm. Dinner and drinks (alcoholic and non-alcoholic selections) will be provided.&nbsp\;</p><p><br></p><p>To register\, visit:&nbsp\;<a fr-original-style="" href="https://cocoonhouse.ejoinme.org/butterfly2026" style="user-select: auto\;">https://cocoonhouse.ejoinme.org/butterfly2026</a></p><p>Registration closes April 24th! $100/person or $950/table of 10&nbsp\;</p><p><br></p><p>Thank you to Premera Blue Cross for generously hosting Cocoon House for this very special event!</p></body></html>
LOCATION:6911 220th St SW Mountlake Terrace WA 98043
UID:e.3169.1446642
SEQUENCE:3
DTSTAMP:20260420T210356Z
URL:https://members.thegsba.org/eventcalendar/Details/cocoon-house-s-butterfly-celebration-1713416?sourceTypeId=Hub
END:VEVENT
END:VCALENDAR
