BEGIN:VCALENDAR
VERSION:2.0
PRODID:-//ChamberMaster//Event Calendar 2.0//EN
METHOD:PUBLISH
X-PUBLISHED-TTL:P1H
REFRESH-INTERVAL:P1H
CALSCALE:GREGORIAN
BEGIN:VTIMEZONE
TZID:America/Los_Angeles
BEGIN:DAYLIGHT
RRULE:FREQ=YEARLY;BYMONTH=3;BYDAY=2SU
DTSTART:20070101T000000
TZOFFSETFROM:-0800
TZOFFSETTO:-0700
TZNAME:Pacific Daylight Time
END:DAYLIGHT
BEGIN:STANDARD
RRULE:FREQ=YEARLY;BYMONTH=11;BYDAY=1SU
DTSTART:20070101T000000
TZOFFSETFROM:-0700
TZOFFSETTO:-0800
TZNAME:Pacific Standard Time
END:STANDARD
END:VTIMEZONE
BEGIN:VEVENT
DTSTART;TZID=America/Los_Angeles:20270102T193000
DTEND;TZID=America/Los_Angeles:20270124T140000
X-MICROSOFT-CDO-ALLDAYEVENT:FALSE
SUMMARY:Come From Away
DESCRIPTION:Welcome to the rock! This exuberant\, Tony Award–winning musical has captivated audiences around the world with its astonishing true story of kindness in the face of crisis.  \n\nOn September 11\, 2001\, nearly 7\,000 airline passengers were unexpectedly diverted to the tiny town of Gander\, Newfoundland. Overnight\, strangers from across the globe found themselves stranded far from home—but the people of Gander answered uncertainty with compassion and generosity\, opening their hearts\, their homes\, and even (and unforgettably!) their bar. As cultures collided and nerves frayed\, this unlikely international sleepover transformed into a powerful celebration of connection and resilience.   \n\nBrimming with humor\, heart\, and a soaring Celtic-inflected score\, Come From Away captures five unforgettable days when a small town showed the world what generosity means. It’s an uplifting celebration of compassion\, resilience\, and our ability to come together when it matters most—a story guaranteed to restore your faith in humanity.
X-ALT-DESC;FMTTYPE=text/html:Welcome to the rock! This exuberant\, Tony Award–winning musical has captivated audiences around the world with its astonishing true story of kindness in the face of crisis.  \n\nOn September 11\, 2001\, nearly 7\,000 airline passengers were unexpectedly diverted to the tiny town of Gander\, Newfoundland. Overnight\, strangers from across the globe found themselves stranded far from home—but the people of Gander answered uncertainty with compassion and generosity\, opening their hearts\, their homes\, and even (and unforgettably!) their bar. As cultures collided and nerves frayed\, this unlikely international sleepover transformed into a powerful celebration of connection and resilience.   \n\nBrimming with humor\, heart\, and a soaring Celtic-inflected score\, Come From Away captures five unforgettable days when a small town showed the world what generosity means. It’s an uplifting celebration of compassion\, resilience\, and our ability to come together when it matters most—a story guaranteed to restore your faith in humanity.
LOCATION:2710 Wetmore Avenue Everett WA 98201
UID:e.3169.1443066
SEQUENCE:3
DTSTAMP:20260420T205921Z
URL:https://members.thegsba.org/eventcalendar/Details/come-from-away-1709173?sourceTypeId=Hub
END:VEVENT
END:VCALENDAR
