BEGIN:VCALENDAR
VERSION:2.0
PRODID:-//ChamberMaster//Event Calendar 2.0//EN
METHOD:PUBLISH
X-PUBLISHED-TTL:P1H
REFRESH-INTERVAL:P1H
CALSCALE:GREGORIAN
BEGIN:VTIMEZONE
TZID:America/Los_Angeles
BEGIN:DAYLIGHT
RRULE:FREQ=YEARLY;BYMONTH=3;BYDAY=2SU
DTSTART:20070101T000000
TZOFFSETFROM:-0800
TZOFFSETTO:-0700
TZNAME:Pacific Daylight Time
END:DAYLIGHT
BEGIN:STANDARD
RRULE:FREQ=YEARLY;BYMONTH=11;BYDAY=1SU
DTSTART:20070101T000000
TZOFFSETFROM:-0700
TZOFFSETTO:-0800
TZNAME:Pacific Standard Time
END:STANDARD
END:VTIMEZONE
BEGIN:VEVENT
DTSTART;TZID=America/Los_Angeles:20260502T203000
DTEND;TZID=America/Los_Angeles:20260502T230000
X-MICROSOFT-CDO-ALLDAYEVENT:FALSE
SUMMARY:Evrim ve Ali Tolga Bahar Konseri
DESCRIPTION:Join us for a night of Turkish music extravaganza at a/stir on Capitol Hill\, with Evrim and Ali Tolga. \n\nYour ticket includes one drink (beer\, wine\, cider or cocktail up to $14). \n\nDoors open at 8:30pm\, show at 9pm.\n\n \n\nEvrim Bilgin (https://www.youtube.com/channel/UCBBb7mMhLa7OGd5dFwU7ncg)\n\nAli Tolga (https://www.youtube.com/user/alitolgademirtas)\n\nTickets: https://sickening.events/e/evrim-ve-ali-tolga-bahar-konseri
X-ALT-DESC;FMTTYPE=text/html:Join us for a night of Turkish music extravaganza at a/stir on Capitol Hill\, with Evrim and Ali Tolga. \n\nYour ticket includes one drink (beer\, wine\, cider or cocktail up to $14). \n\nDoors open at 8:30pm\, show at 9pm.\n\n \n\nEvrim Bilgin (https://www.youtube.com/channel/UCBBb7mMhLa7OGd5dFwU7ncg)\n\nAli Tolga (https://www.youtube.com/user/alitolgademirtas)\n\nTickets: https://sickening.events/e/evrim-ve-ali-tolga-bahar-konseri
LOCATION:818 E Pike St Seattle WA 98122
UID:e.3169.1442048
SEQUENCE:3
DTSTAMP:20260420T210641Z
URL:https://members.thegsba.org/eventcalendar/Details/evrim-ve-ali-tolga-bahar-konseri-1707880?sourceTypeId=Hub
END:VEVENT
END:VCALENDAR
