BEGIN:VCALENDAR
VERSION:2.0
PRODID:-//ChamberMaster//Event Calendar 2.0//EN
METHOD:PUBLISH
X-PUBLISHED-TTL:P1H
REFRESH-INTERVAL:P1H
CALSCALE:GREGORIAN
BEGIN:VTIMEZONE
TZID:America/Los_Angeles
BEGIN:DAYLIGHT
RRULE:FREQ=YEARLY;BYMONTH=3;BYDAY=2SU
DTSTART:20070101T000000
TZOFFSETFROM:-0800
TZOFFSETTO:-0700
TZNAME:Pacific Daylight Time
END:DAYLIGHT
BEGIN:STANDARD
RRULE:FREQ=YEARLY;BYMONTH=11;BYDAY=1SU
DTSTART:20070101T000000
TZOFFSETFROM:-0700
TZOFFSETTO:-0800
TZNAME:Pacific Standard Time
END:STANDARD
END:VTIMEZONE
BEGIN:VEVENT
DTSTART;TZID=America/Los_Angeles:20260510T120000
DTEND;TZID=America/Los_Angeles:20260510T140000
X-MICROSOFT-CDO-ALLDAYEVENT:FALSE
SUMMARY:Mother's Day Drag Brunch
DESCRIPTION:Celebrate mom with fierce performances\, tasty brunch bites\, and a whole lot of sparkle and sass!\n\nBack by popular demand with TWO SHOWS this year - Mother's Day is for everyone. Bring your favorite plant mom\, grandmother\, mom boss or any other mother figure to a drag show to rememBEER.\n\nShow One: Doors at 11:00 am\, Show at 12:00 pm\nShow Two: Doors at 2:30 pm\, Show at 3:00 pm\n\nBrunch food from Noodle Cart and Tacos & Beer\nDrink specials\, mimosas and micheladas\, oh my!\nFeaturing four fabulous queens\, bingo and a raucus good time\n\n$25 special EARLY BIRD pricing until May 1st
X-ALT-DESC;FMTTYPE=text/html:Celebrate mom with fierce performances\, tasty brunch bites\, and a whole lot of sparkle and sass!\n\nBack by popular demand with TWO SHOWS this year - Mother's Day is for everyone. Bring your favorite plant mom\, grandmother\, mom boss or any other mother figure to a drag show to rememBEER.\n\nShow One: Doors at 11:00 am\, Show at 12:00 pm\nShow Two: Doors at 2:30 pm\, Show at 3:00 pm\n\nBrunch food from Noodle Cart and Tacos & Beer\nDrink specials\, mimosas and micheladas\, oh my!\nFeaturing four fabulous queens\, bingo and a raucus good time\n\n$25 special EARLY BIRD pricing until May 1st
LOCATION:1158 Broadway Seattle WA 98122
UID:e.3169.1441360
SEQUENCE:3
DTSTAMP:20260420T210351Z
URL:https://members.thegsba.org/eventcalendar/Details/mother-s-day-drag-brunch-1707194?sourceTypeId=Hub
END:VEVENT
END:VCALENDAR
