BEGIN:VCALENDAR
VERSION:2.0
PRODID:-//ChamberMaster//Event Calendar 2.0//EN
METHOD:PUBLISH
X-PUBLISHED-TTL:P1H
REFRESH-INTERVAL:P1H
CALSCALE:GREGORIAN
BEGIN:VTIMEZONE
TZID:America/Los_Angeles
BEGIN:DAYLIGHT
RRULE:FREQ=YEARLY;BYMONTH=3;BYDAY=2SU
DTSTART:20070101T000000
TZOFFSETFROM:-0800
TZOFFSETTO:-0700
TZNAME:Pacific Daylight Time
END:DAYLIGHT
BEGIN:STANDARD
RRULE:FREQ=YEARLY;BYMONTH=11;BYDAY=1SU
DTSTART:20070101T000000
TZOFFSETFROM:-0700
TZOFFSETTO:-0800
TZNAME:Pacific Standard Time
END:STANDARD
END:VTIMEZONE
BEGIN:VEVENT
DTSTART;TZID=America/Los_Angeles:20260420T180000
DTEND;TZID=America/Los_Angeles:20260420T200000
X-MICROSOFT-CDO-ALLDAYEVENT:FALSE
SUMMARY:Paella Pop-Up
DESCRIPTION:You know us (or maybe you don't). We are obsessed with Northern Mediterranean cuisine. What is more quintessential than Paella when it comes to Northern Mediterranean? (Well\, a few other dishes but paella is certainly one of them). So\, join us for a very limited pop-up for a seafood paella pop-up at a/stir. The ONLY option for dinner is\, you guessed it\, paella. What is in it? This one will feature smoked chicken thighs\, mussels\, shrimp and chorizo (no\, we won't forget the saffron\, onion and the bell peppers). No vegan or vegetarian options this time around. \n\nWhat else comes with it? A glass of Spanish wine - white or red\, your choice. \n\nAnything else? Well\, if you so choose\, you will be able to order a side salad and a basque cheesecake as dessert (neither are included in price\, and both in very limited quantities). \n\nSeatings at 6pm\, 7pm or 8pm. Choose carefully. :-)\n\nTickets: https://qrco.de/paellaatastir
X-ALT-DESC;FMTTYPE=text/html:You know us (or maybe you don't). We are obsessed with Northern Mediterranean cuisine. What is more quintessential than Paella when it comes to Northern Mediterranean? (Well\, a few other dishes but paella is certainly one of them). So\, join us for a very limited pop-up for a seafood paella pop-up at a/stir. The ONLY option for dinner is\, you guessed it\, paella. What is in it? This one will feature smoked chicken thighs\, mussels\, shrimp and chorizo (no\, we won't forget the saffron\, onion and the bell peppers). No vegan or vegetarian options this time around. \n\nWhat else comes with it? A glass of Spanish wine - white or red\, your choice. \n\nAnything else? Well\, if you so choose\, you will be able to order a side salad and a basque cheesecake as dessert (neither are included in price\, and both in very limited quantities). \n\nSeatings at 6pm\, 7pm or 8pm. Choose carefully. :-)\n\nTickets: https://qrco.de/paellaatastir
LOCATION:818 E Pike St Seattle WA 98122
UID:e.3169.1442050
SEQUENCE:3
DTSTAMP:20260420T210136Z
URL:https://members.thegsba.org/eventcalendar/Details/paella-pop-up-1707882?sourceTypeId=Hub
END:VEVENT
END:VCALENDAR
