BEGIN:VCALENDAR
VERSION:2.0
PRODID:-//ChamberMaster//Event Calendar 2.0//EN
METHOD:PUBLISH
X-PUBLISHED-TTL:P1H
REFRESH-INTERVAL:P1H
CALSCALE:GREGORIAN
BEGIN:VTIMEZONE
TZID:America/Los_Angeles
BEGIN:DAYLIGHT
RRULE:FREQ=YEARLY;BYMONTH=3;BYDAY=2SU
DTSTART:20070101T000000
TZOFFSETFROM:-0800
TZOFFSETTO:-0700
TZNAME:Pacific Daylight Time
END:DAYLIGHT
BEGIN:STANDARD
RRULE:FREQ=YEARLY;BYMONTH=11;BYDAY=1SU
DTSTART:20070101T000000
TZOFFSETFROM:-0700
TZOFFSETTO:-0800
TZNAME:Pacific Standard Time
END:STANDARD
END:VTIMEZONE
BEGIN:VEVENT
DTSTART;TZID=America/Los_Angeles:20260425T141500
DTEND;TZID=America/Los_Angeles:20260425T160000
X-MICROSOFT-CDO-ALLDAYEVENT:FALSE
SUMMARY:Queer Creative Connections
DESCRIPTION:Come as you are to this no-expectations social space for our 2SLGBTQIA+ artists and creators. You're welcome to hang out and work on your own creations\, collab on projects\, bring materials to trade around\, or just vibe with fellow creatives.Join Pride Across the Bridge each 4th Saturday of the month\, 2:15-4pm in our monthly low pressure 2SLGBTQIA+ art meetup group.\nWe are partnering with Bellevue King County Library System to reserve a recurring space for this wonderful gathering! Hang out and work on your own creations\, create projects together\, bring materials to trade around\, or just vibe! We meet each 4th Saturday of the month at Room 1 in the foyer of Bellevue Library. This space is being hosted by Uncle Jack of Wolfberry Studio and PAB volunteer Robin! Masks encouraged to keep our community safe!Transit Options: Bus: Lines 550\, 226\, 250. Light Rail: Bellevue Downtown Station ~.5 mile awayFind more information at: https://prideacrossthebridge.org/queer-creative-connections-description/
X-ALT-DESC;FMTTYPE=text/html:<!DOCTYPE html><html><head><title></title></head><body aria-disabled="false"><p>Come as you are to this no-expectations social space for our 2SLGBTQIA+ artists and creators. You&rsquo\;re welcome to hang out and work on your own creations\, collab on projects\, bring materials to trade around\, or just vibe with fellow creatives.</p><p>Join Pride Across the Bridge each <strong fr-original-style="" style="font-weight: 700\;">4th Saturday of the month\, 2:15-4pm&nbsp\;</strong>in our monthly low pressure 2SLGBTQIA+ art meetup group.<br>We are partnering with <a fr-original-style="" href="https://kcls.org/locations/bellevue/" style="user-select: auto\;" target="_blank">Bellevue King County Library System</a> to reserve a recurring space for this wonderful gathering! Hang out and work on your own creations\, create projects together\, bring materials to trade around\, or just vibe! We meet each 4th Saturday of the month at Room 1 in the foyer of Bellevue Library. This space is being hosted by Uncle Jack of <a fr-original-style="" href="https://wolfberrystudio.com/" style="user-select: auto\;" target="_blank">Wolfberry Studio</a> and PAB volunteer Robin! Masks encouraged to keep our community safe!</p><p><strong fr-original-style="" style="font-weight: 700\;">Transit Options</strong>: Bus: Lines 550\, 226\, 250. Light Rail: <a fr-original-style="" href="https://www.soundtransit.org/ride-with-us/stops-stations/bellevue-downtown-station?route_tab=arrivals" style="user-select: auto\;">Bellevue Downtown Station</a> ~.5 mile away</p><p>Find more information at:&nbsp\;<a fr-original-style="" href="https://prideacrossthebridge.org/queer-creative-connections-description/" style="user-select: auto\;">https://prideacrossthebridge.org/queer-creative-connections-description/</a></p></body></html>
LOCATION:
UID:e.3169.1441355
SEQUENCE:3
DTSTAMP:20260420T205829Z
URL:https://members.thegsba.org/eventcalendar/Details/queer-creative-connections-1707189?sourceTypeId=Hub
END:VEVENT
END:VCALENDAR
